Workbook
Name Check_Sum: '(1) Summary'!$E$4:$E$39
Name Full_Time_Fringes: 'Benefit Look Up'!$B$20:$J$27

Sheet Instructions
B2: GENERAL INSTRUCTIONS
B4: 1. This form should be used by Auxiliary Enterprise Units to present their requests for new funding to their division head. The form should be used to request funding associated with the expansion of existing programs, the development of new programs, and building and programming costs associated with opening new facilities.
B6: 2. Each completed initiative request should be a stand-alone decision package. Do not combine several initiatives/ideas on a single set of initiative request forms.
B8: 3. The summary section of the form should clearly address why the initiative must be supported through the use of new funding and how the initiative will impact the unit's ability to maintain or accomplish its specific planning objectives and the Pillars of the university. Each initiative should relate to only one of the Pillars. The Pillars can be found on the Madison Promise webpage. The website follows:
B11: 4. The summary must also include the short description of the new JMU Strategic Accountability and Reporting (STAR) Tool objective related to this initiative.
B13: 5. This form consists of four sheets. These sheets provide the division head with a written Summary and requests for Revenue, Personal Services, and Nonpersonal Services expenditure funding. The sheets are titled (1) Summary, (2) Revenue, (3)Personal Services, and (4) Nonpersonal Services.
B15: 6. The “Auxiliary Enterprise Initiative Request Template” forms are available as an Excel document on the Office of Budget Management’s web page. See link in next row. Use this file to create the forms for each unique initiative. The detailed instructions listed below will provide guidance in completing the individual sheets required for an initiative. After entering all data, save the file using a unique name for each initiative. Repeat this process for each initiative.
B17: Return an electronic copy of each initiative to the Office of Budget Management.
B19: SPECIFIC INSTRUCTIONS
B21: The section that follows details the information to be provided by each organizational unit in completing the Auxiliary initiative request form.
B23: Sheet 1 of 4 – (1) Summary:
B25: Summary of Initiative Request
... B162: Note: Row 47 contains Excel calculation that summarizes the total One-Time Nonpersonal Services expenditures. This total is carried to the (1)Summary Sheet.

Sheet (1) Summary
B1: Auxiliary Enterprise Initiative Request Form FY28
B3: Summary of Initiative Request
B4: Initiative Priority Number: | C4: =IF(LEN(D4)<=0, "Required", " ") -> Required | E4: =IF(LEN(C4)<=0, "Required", " ")
B5: Initiative Title: | C5: =IF(LEN(D5)<= 3, "Required", " ") -> Required
B6: Department Name: | C6: =IF(LEN(D6)<= 1, "Required", " ") -> Required
B8: Resources Summary | C8: FTE | D8: $
B9: Revenue | D9: ='(2) Revenue'!E55 -> 0
B11: Full-time Personal Services | C11: ='(3) Personal Services'!E31 -> 0 | D11: ='(3) Personal Services'!P31 -> 0
B12: Part-time Personal Services | C12: ='(3) Personal Services'!E70 -> 0 | D12: ='(3) Personal Services'!I70 -> 0
B13: Non Personal Services -- Ongoing | D13: ='(4) Nonpersonal Services'!E36 -> 0
B14: Non Personal Services -- One Time | D14: ='(4) Nonpersonal Services'!E47 -> 0
B15: Agency Service Request | D15: =ROUND(0.11*(SUM(D11,D12,D13,D14)),0) -> 0
B16: Total Expense Request | C16: =SUM(C11:C14) -> 0 | D16: =SUM(D11:D15) -> 0
B18: Net Contribution to Reserve | D18: =D9 - D16 -> 0
B21: Detail Information
B22: Provide a concise description/justification for this initiative request.
B23: =IF(LEN(B24)<= 10, "Required Information in Following Row", " ") -> Required Information in Following Row | C23: Following row allows minimum of 11 characters and maximum of 1,600 characters
B25: Please explain any potential department or divisional funds that could be reallocated to partially or fully fund this initiative
C26: Following row allows maximum of 1,000 characters
B28: Please explain the methodology or benchmarks used to decide that this new funding is required and why.
B29: =IF(LEN(B30)<= 10, "Required to Enter Information in Following Row", " ") -> Required to Enter Information in Following Row | C29: Following row allows minimum of 11 characters and maximum of 1,500 characters
B31: Identify ONE Pillar from the drop down box to which this initiative relates. Describe how this initiative enables the unit to achieve its objectives in support of the specified characteristic and/or goal.
B32: =IF((C32)= "Choose One Core Quality From Drop Down List:", "Required to Use Drop Down List To Right", " ") | C32: Choose One Pillar From Drop Down List:
B33: =IF(LEN(B34)<= 10, "Required to Enter Information in Following Row", " ") -> Required to Enter Information in Following Row | C33: Following row allows minimum of 11 characters and maximum of 830 characters
B35: Identify the JMU Strategic Accountability and Reporting (STAR) Tool information to which this initiative relates. Please enter the JMU-STAR objective short title and describe how this initiative helps the unit meet this objective.
B36: Objective Number: (11 digit number)
B37: JMU-STAR Objective Short Title: (Use minimum of 2 characters and maximum of 105 characters) | C37: =IF(LEN(D37)<= 10, "Required", " ") -> Required
B39: Describe how this initiative helps the unit meet this JMU-STAR objective
B40: =IF(LEN(B41)<= 10, "Required to Enter Information in Following Row", " ") -> Required to Enter Information in Following Row | C40: Following row allows minimum of 11 characters and maximum of 550 characters
B42: Form Prepared By
B43: Name: (Use minimum of 8 characters and maximum of 70 characters) | C43: =IF(LEN(D43)<= 7, "Required", " ") -> Required
B44: Telephone Number: (8xxxx) | C44: =IF(LEN(D44)<=4, "Required", " ") -> Required
B45: Department Name: (Use minimum of 2 characters and maximum of 70 characters) | C45: =IF(LEN(D45)<= 1, "Required", " ") -> Required
B47: =IF(OR(E10 = "Required",C11 = "Required",C12 = "Required", LEFT(B23,8)= "Required",LEFT(B29,8) = "Required",LEFT(B32,8) = "Required",LEFT(B33,8) = "Required", C36 = "Required",C37 = "Required", LEFT(B40,8) = "Required",C43 = "Required",C44 = "Required", C45 = "Required") = TRUE, "FORM NOT COMPLETE", "FORM COMPLETE") -> FORM NOT COMPLETE

Sheet (2) Revenue
B1: ='(1) Summary'!B1 -> Auxiliary Enterprise Initiative Request Form FY28
B2: Revenue Request
B3: This information is carried forward from Summary Sheet
B4: Initiative Priority Number: | D4: ='(1) Summary'!D4 -> 0
B5: Initiative Title: | D5: ='(1) Summary'!D5 -> 0
B6: Department Name: | D6: ='(1) Summary'!D6 -> 0
C8: Revenue
B9: Enter 1) Dept ID number, 2) Revenue Description, 3) Revenue Account Code, and 4) Requested amount.
B10: ① Dept ID Number | C10: ② Revenue Description | D10: ③ Account Code | E10: ④ $
C55: Total Revenue Request | E55: =SUM(E10:E54) -> 0

Sheet (3) Personal Services
B1: =+'(1) Summary'!B1:D1 -> Auxiliary Enterprise Initiative Request Form FY28
B2: Personal Services Request
B3: This information is carried forward from the Summary Sheet
B4: Initiative Priority Number: | E4: ='(1) Summary'!D4 -> 0
B5: Initiative Title: | E5: ='(1) Summary'!D5 -> 0
B6: Department Name: | E6: ='(1) Summary'!D6 -> 0
B8: Full-time Personal Services - (Final classification and compensation will be determined by Human Resources based on the Position Description)
B9: Enter 1) Dept ID number, 2) Position title,3) Position type that includes account code, 4) Number of positions (FTE) and 5) Requested total salary amount | G9: Do not enter data in the section below. Benefits and total salary are calculated automatically and the total is transferred to the summary tab
B10: Dept ID Number | C10: Position Title | D10: Account Code | E10: FTE | F10: Salary | G10: Employer Benefits | O10: Total Benefits | P10: Total Salary and Benefits
B11: ① | C11: ② Enter Position Title for Selected Full-time Positions Type Below: | D11: ③ Choose Position Type From Drop Down Box: A valid position type must be selected or Benefits will not be calculated. | E11: ④ | F11: ⑤ | G11: VRS Account 111100 | H11: Social Security Account 111200 | I11: Group Life Insurance Account 111400 | J11: Health Insurance Account 111500 | K11: Retiree Health Insurance Account 111600 | L11: Long Term Disability State Account 111700 | M11: TIAA Account 111800 | N11: Deferred Compen- sation Account 113800
D12: Choose Full-Time Position Type: | E12: 0 | G12: =ROUND(IF($D12="Choose Full-Time Position Type:", 0,$F12*VLOOKUP($D12,'Benefit Look Up'!$B$21:$C$27,2,FALSE)),0) -> 0 | H12: =ROUND(IF($D12="Choose Full-Time Position Type:", 0,$F12*VLOOKUP($D12,'Benefit Look Up'!$B$21:$D$27,3,FALSE)),0) -> 0 | I12: =ROUND(IF($D12="Choose Full-Time Position Type:", 0,$F12*VLOOKUP($D12,'Benefit Look Up'!$B$21:$E$27,4,FALSE)),0) -> 0 | J12: =IFERROR(ROUND(IF($E12="", 0,$E12*VLOOKUP($D12,'Benefit Look Up'!$B$21:$F$27,5,FALSE)),0), " - ") -> - | K12: =ROUND(IF($D12="Choose Full-Time Position Type:", 0,$F12*VLOOKUP($D12,'Benefit Look Up'!$B$21:$G$27,6,FALSE)),0) -> 0 | L12: =ROUND(IF($D12="Choose Full-Time Position Type:", 0,$F12*VLOOKUP($D12,'Benefit Look Up'!$B$21:$H$27,7,FALSE)),0) -> 0 | M12: =ROUND(IF($D12="Choose Full-Time Position Type:", 0,$F12*VLOOKUP($D12,'Benefit Look Up'!$B$21:$I$27,8,FALSE)),0) -> 0 | N12: =ROUND(IF($D12="Choose Full-Time Position Type:", 0,$E12*VLOOKUP($D12,'Benefit Look Up'!$B$21:$J$27,9,FALSE)),0) -> 0 | O12: =SUM(G12:N12) -> 0 | P12: =SUM(F12,O12) -> 0
D13: Choose Full-Time Position Type: | E13: 0 | G13: =ROUND(IF($D13="Choose Full-Time Position Type:", 0,$F13*VLOOKUP($D13,'Benefit Look Up'!$B$21:$C$27,2,FALSE)),0) -> 0 | H13: =ROUND(IF($D13="Choose Full-Time Position Type:", 0,$F13*VLOOKUP($D13,'Benefit Look Up'!$B$21:$D$27,3,FALSE)),0) -> 0 | I13: =ROUND(IF($D13="Choose Full-Time Position Type:", 0,$F13*VLOOKUP($D13,'Benefit Look Up'!$B$21:$E$27,4,FALSE)),0) -> 0 | J13: =IFERROR(ROUND(IF($E13="", 0,$E13*VLOOKUP($D13,'Benefit Look Up'!$B$21:$F$27,5,FALSE)),0), " - ") -> - | K13: =ROUND(IF($D13="Choose Full-Time Position Type:", 0,$F13*VLOOKUP($D13,'Benefit Look Up'!$B$21:$G$27,6,FALSE)),0) -> 0 | L13: =ROUND(IF($D13="Choose Full-Time Position Type:", 0,$F13*VLOOKUP($D13,'Benefit Look Up'!$B$21:$H$27,7,FALSE)),0) -> 0 | M13: =ROUND(IF($D13="Choose Full-Time Position Type:", 0,$F13*VLOOKUP($D13,'Benefit Look Up'!$B$21:$I$27,8,FALSE)),0) -> 0 | N13: =ROUND(IF($D13="Choose Full-Time Position Type:", 0,$E13*VLOOKUP($D13,'Benefit Look Up'!$B$21:$J$27,9,FALSE)),0) -> 0 | O13: =SUM(G13:N13) -> 0 | P13: =SUM(F13,O13) -> 0
D14: Choose Full-Time Position Type: | E14: 0 | G14: =ROUND(IF($D14="Choose Full-Time Position Type:", 0,$F14*VLOOKUP($D14,'Benefit Look Up'!$B$21:$C$27,2,FALSE)),0) -> 0 | H14: =ROUND(IF($D14="Choose Full-Time Position Type:", 0,$F14*VLOOKUP($D14,'Benefit Look Up'!$B$21:$D$27,3,FALSE)),0) -> 0 | I14: =ROUND(IF($D14="Choose Full-Time Position Type:", 0,$F14*VLOOKUP($D14,'Benefit Look Up'!$B$21:$E$27,4,FALSE)),0) -> 0 | J14: =IFERROR(ROUND(IF($E14="", 0,$E14*VLOOKUP($D14,'Benefit Look Up'!$B$21:$F$27,5,FALSE)),0), " - ") -> - | K14: =ROUND(IF($D14="Choose Full-Time Position Type:", 0,$F14*VLOOKUP($D14,'Benefit Look Up'!$B$21:$G$27,6,FALSE)),0) -> 0 | L14: =ROUND(IF($D14="Choose Full-Time Position Type:", 0,$F14*VLOOKUP($D14,'Benefit Look Up'!$B$21:$H$27,7,FALSE)),0) -> 0 | M14: =ROUND(IF($D14="Choose Full-Time Position Type:", 0,$F14*VLOOKUP($D14,'Benefit Look Up'!$B$21:$I$27,8,FALSE)),0) -> 0 | N14: =ROUND(IF($D14="Choose Full-Time Position Type:", 0,$E14*VLOOKUP($D14,'Benefit Look Up'!$B$21:$J$27,9,FALSE)),0) -> 0 | O14: =SUM(G14:N14) -> 0 | P14: =SUM(F14,O14) -> 0
D15: Choose Full-Time Position Type: | E15: 0 | G15: =ROUND(IF($D15="Choose Full-Time Position Type:", 0,$F15*VLOOKUP($D15,'Benefit Look Up'!$B$21:$C$27,2,FALSE)),0) -> 0 | H15: =ROUND(IF($D15="Choose Full-Time Position Type:", 0,$F15*VLOOKUP($D15,'Benefit Look Up'!$B$21:$D$27,3,FALSE)),0) -> 0 | I15: =ROUND(IF($D15="Choose Full-Time Position Type:", 0,$F15*VLOOKUP($D15,'Benefit Look Up'!$B$21:$E$27,4,FALSE)),0) -> 0 | J15: =IFERROR(ROUND(IF($E15="", 0,$E15*VLOOKUP($D15,'Benefit Look Up'!$B$21:$F$27,5,FALSE)),0), " - ") -> - | K15: =ROUND(IF($D15="Choose Full-Time Position Type:", 0,$F15*VLOOKUP($D15,'Benefit Look Up'!$B$21:$G$27,6,FALSE)),0) -> 0 | L15: =ROUND(IF($D15="Choose Full-Time Position Type:", 0,$F15*VLOOKUP($D15,'Benefit Look Up'!$B$21:$H$27,7,FALSE)),0) -> 0 | M15: =ROUND(IF($D15="Choose Full-Time Position Type:", 0,$F15*VLOOKUP($D15,'Benefit Look Up'!$B$21:$I$27,8,FALSE)),0) -> 0 | N15: =ROUND(IF($D15="Choose Full-Time Position Type:", 0,$E15*VLOOKUP($D15,'Benefit Look Up'!$B$21:$J$27,9,FALSE)),0) -> 0 | O15: =SUM(G15:N15) -> 0 | P15: =SUM(F15,O15) -> 0
D16: Choose Full-Time Position Type: | E16: 0 | G16: =ROUND(IF($D16="Choose Full-Time Position Type:", 0,$F16*VLOOKUP($D16,'Benefit Look Up'!$B$21:$C$27,2,FALSE)),0) -> 0 | H16: =ROUND(IF($D16="Choose Full-Time Position Type:", 0,$F16*VLOOKUP($D16,'Benefit Look Up'!$B$21:$D$27,3,FALSE)),0) -> 0 | I16: =ROUND(IF($D16="Choose Full-Time Position Type:", 0,$F16*VLOOKUP($D16,'Benefit Look Up'!$B$21:$E$27,4,FALSE)),0) -> 0 | J16: =IFERROR(ROUND(IF($E16="", 0,$E16*VLOOKUP($D16,'Benefit Look Up'!$B$21:$F$27,5,FALSE)),0), " - ") -> - | K16: =ROUND(IF($D16="Choose Full-Time Position Type:", 0,$F16*VLOOKUP($D16,'Benefit Look Up'!$B$21:$G$27,6,FALSE)),0) -> 0 | L16: =ROUND(IF($D16="Choose Full-Time Position Type:", 0,$F16*VLOOKUP($D16,'Benefit Look Up'!$B$21:$H$27,7,FALSE)),0) -> 0 | M16: =ROUND(IF($D16="Choose Full-Time Position Type:", 0,$F16*VLOOKUP($D16,'Benefit Look Up'!$B$21:$I$27,8,FALSE)),0) -> 0 | N16: =ROUND(IF($D16="Choose Full-Time Position Type:", 0,$E16*VLOOKUP($D16,'Benefit Look Up'!$B$21:$J$27,9,FALSE)),0) -> 0 | O16: =SUM(G16:N16) -> 0 | P16: =SUM(F16,O16) -> 0
D17: Choose Full-Time Position Type: | E17: 0 | G17: =ROUND(IF($D17="Choose Full-Time Position Type:", 0,$F17*VLOOKUP($D17,'Benefit Look Up'!$B$21:$C$27,2,FALSE)),0) -> 0 | H17: =ROUND(IF($D17="Choose Full-Time Position Type:", 0,$F17*VLOOKUP($D17,'Benefit Look Up'!$B$21:$D$27,3,FALSE)),0) -> 0 | I17: =ROUND(IF($D17="Choose Full-Time Position Type:", 0,$F17*VLOOKUP($D17,'Benefit Look Up'!$B$21:$E$27,4,FALSE)),0) -> 0 | J17: =IFERROR(ROUND(IF($E17="", 0,$E17*VLOOKUP($D17,'Benefit Look Up'!$B$21:$F$27,5,FALSE)),0), " - ") -> - | K17: =ROUND(IF($D17="Choose Full-Time Position Type:", 0,$F17*VLOOKUP($D17,'Benefit Look Up'!$B$21:$G$27,6,FALSE)),0) -> 0 | L17: =ROUND(IF($D17="Choose Full-Time Position Type:", 0,$F17*VLOOKUP($D17,'Benefit Look Up'!$B$21:$H$27,7,FALSE)),0) -> 0 | M17: =ROUND(IF($D17="Choose Full-Time Position Type:", 0,$F17*VLOOKUP($D17,'Benefit Look Up'!$B$21:$I$27,8,FALSE)),0) -> 0 | N17: =ROUND(IF($D17="Choose Full-Time Position Type:", 0,$E17*VLOOKUP($D17,'Benefit Look Up'!$B$21:$J$27,9,FALSE)),0) -> 0 | O17: =SUM(G17:N17) -> 0 | P17: =SUM(F17,O17) -> 0
D18: Choose Full-Time Position Type: | E18: 0 | G18: =ROUND(IF($D18="Choose Full-Time Position Type:", 0,$F18*VLOOKUP($D18,'Benefit Look Up'!$B$21:$C$27,2,FALSE)),0) -> 0 | H18: =ROUND(IF($D18="Choose Full-Time Position Type:", 0,$F18*VLOOKUP($D18,'Benefit Look Up'!$B$21:$D$27,3,FALSE)),0) -> 0 | I18: =ROUND(IF($D18="Choose Full-Time Position Type:", 0,$F18*VLOOKUP($D18,'Benefit Look Up'!$B$21:$E$27,4,FALSE)),0) -> 0 | J18: =IFERROR(ROUND(IF($E18="", 0,$E18*VLOOKUP($D18,'Benefit Look Up'!$B$21:$F$27,5,FALSE)),0), " - ") -> - | K18: =ROUND(IF($D18="Choose Full-Time Position Type:", 0,$F18*VLOOKUP($D18,'Benefit Look Up'!$B$21:$G$27,6,FALSE)),0) -> 0 | L18: =ROUND(IF($D18="Choose Full-Time Position Type:", 0,$F18*VLOOKUP($D18,'Benefit Look Up'!$B$21:$H$27,7,FALSE)),0) -> 0 | M18: =ROUND(IF($D18="Choose Full-Time Position Type:", 0,$F18*VLOOKUP($D18,'Benefit Look Up'!$B$21:$I$27,8,FALSE)),0) -> 0 | N18: =ROUND(IF($D18="Choose Full-Time Position Type:", 0,$E18*VLOOKUP($D18,'Benefit Look Up'!$B$21:$J$27,9,FALSE)),0) -> 0 | O18: =SUM(G18:N18) -> 0 | P18: =SUM(F18,O18) -> 0
D19: Choose Full-Time Position Type: | E19: 0 | G19: =ROUND(IF($D19="Choose Full-Time Position Type:", 0,$F19*VLOOKUP($D19,'Benefit Look Up'!$B$21:$C$27,2,FALSE)),0) -> 0 | H19: =ROUND(IF($D19="Choose Full-Time Position Type:", 0,$F19*VLOOKUP($D19,'Benefit Look Up'!$B$21:$D$27,3,FALSE)),0) -> 0 | I19: =ROUND(IF($D19="Choose Full-Time Position Type:", 0,$F19*VLOOKUP($D19,'Benefit Look Up'!$B$21:$E$27,4,FALSE)),0) -> 0 | J19: =IFERROR(ROUND(IF($E19="", 0,$E19*VLOOKUP($D19,'Benefit Look Up'!$B$21:$F$27,5,FALSE)),0), " - ") -> - | K19: =ROUND(IF($D19="Choose Full-Time Position Type:", 0,$F19*VLOOKUP($D19,'Benefit Look Up'!$B$21:$G$27,6,FALSE)),0) -> 0 | L19: =ROUND(IF($D19="Choose Full-Time Position Type:", 0,$F19*VLOOKUP($D19,'Benefit Look Up'!$B$21:$H$27,7,FALSE)),0) -> 0 | M19: =ROUND(IF($D19="Choose Full-Time Position Type:", 0,$F19*VLOOKUP($D19,'Benefit Look Up'!$B$21:$I$27,8,FALSE)),0) -> 0 | N19: =ROUND(IF($D19="Choose Full-Time Position Type:", 0,$E19*VLOOKUP($D19,'Benefit Look Up'!$B$21:$J$27,9,FALSE)),0) -> 0 | O19: =SUM(G19:N19) -> 0 | P19: =SUM(F19,O19) -> 0
D20: Choose Full-Time Position Type: | E20: 0 | G20: =ROUND(IF($D20="Choose Full-Time Position Type:", 0,$F20*VLOOKUP($D20,'Benefit Look Up'!$B$21:$C$27,2,FALSE)),0) -> 0 | H20: =ROUND(IF($D20="Choose Full-Time Position Type:", 0,$F20*VLOOKUP($D20,'Benefit Look Up'!$B$21:$D$27,3,FALSE)),0) -> 0 | I20: =ROUND(IF($D20="Choose Full-Time Position Type:", 0,$F20*VLOOKUP($D20,'Benefit Look Up'!$B$21:$E$27,4,FALSE)),0) -> 0 | J20: =IFERROR(ROUND(IF($E20="", 0,$E20*VLOOKUP($D20,'Benefit Look Up'!$B$21:$F$27,5,FALSE)),0), " - ") -> - | K20: =ROUND(IF($D20="Choose Full-Time Position Type:", 0,$F20*VLOOKUP($D20,'Benefit Look Up'!$B$21:$G$27,6,FALSE)),0) -> 0 | L20: =ROUND(IF($D20="Choose Full-Time Position Type:", 0,$F20*VLOOKUP($D20,'Benefit Look Up'!$B$21:$H$27,7,FALSE)),0) -> 0 | M20: =ROUND(IF($D20="Choose Full-Time Position Type:", 0,$F20*VLOOKUP($D20,'Benefit Look Up'!$B$21:$I$27,8,FALSE)),0) -> 0 | N20: =ROUND(IF($D20="Choose Full-Time Position Type:", 0,$E20*VLOOKUP($D20,'Benefit Look Up'!$B$21:$J$27,9,FALSE)),0) -> 0 | O20: =SUM(G20:N20) -> 0 | P20: =SUM(F20,O20) -> 0
D21: Choose Full-Time Position Type: | E21: 0 | G21: =ROUND(IF($D21="Choose Full-Time Position Type:", 0,$F21*VLOOKUP($D21,'Benefit Look Up'!$B$21:$C$27,2,FALSE)),0) -> 0 | H21: =ROUND(IF($D21="Choose Full-Time Position Type:", 0,$F21*VLOOKUP($D21,'Benefit Look Up'!$B$21:$D$27,3,FALSE)),0) -> 0 | I21: =ROUND(IF($D21="Choose Full-Time Position Type:", 0,$F21*VLOOKUP($D21,'Benefit Look Up'!$B$21:$E$27,4,FALSE)),0) -> 0 | J21: =IFERROR(ROUND(IF($E21="", 0,$E21*VLOOKUP($D21,'Benefit Look Up'!$B$21:$F$27,5,FALSE)),0), " - ") -> - | K21: =ROUND(IF($D21="Choose Full-Time Position Type:", 0,$F21*VLOOKUP($D21,'Benefit Look Up'!$B$21:$G$27,6,FALSE)),0) -> 0 | L21: =ROUND(IF($D21="Choose Full-Time Position Type:", 0,$F21*VLOOKUP($D21,'Benefit Look Up'!$B$21:$H$27,7,FALSE)),0) -> 0 | M21: =ROUND(IF($D21="Choose Full-Time Position Type:", 0,$F21*VLOOKUP($D21,'Benefit Look Up'!$B$21:$I$27,8,FALSE)),0) -> 0 | N21: =ROUND(IF($D21="Choose Full-Time Position Type:", 0,$E21*VLOOKUP($D21,'Benefit Look Up'!$B$21:$J$27,9,FALSE)),0) -> 0 | O21: =SUM(G21:N21) -> 0 | P21: =SUM(F21,O21) -> 0
D22: Choose Full-Time Position Type: | E22: 0 | G22: =ROUND(IF($D22="Choose Full-Time Position Type:", 0,$F22*VLOOKUP($D22,'Benefit Look Up'!$B$21:$C$27,2,FALSE)),0) -> 0 | H22: =ROUND(IF($D22="Choose Full-Time Position Type:", 0,$F22*VLOOKUP($D22,'Benefit Look Up'!$B$21:$D$27,3,FALSE)),0) -> 0 | I22: =ROUND(IF($D22="Choose Full-Time Position Type:", 0,$F22*VLOOKUP($D22,'Benefit Look Up'!$B$21:$E$27,4,FALSE)),0) -> 0 | J22: =IFERROR(ROUND(IF($E22="", 0,$E22*VLOOKUP($D22,'Benefit Look Up'!$B$21:$F$27,5,FALSE)),0), " - ") -> - | K22: =ROUND(IF($D22="Choose Full-Time Position Type:", 0,$F22*VLOOKUP($D22,'Benefit Look Up'!$B$21:$G$27,6,FALSE)),0) -> 0 | L22: =ROUND(IF($D22="Choose Full-Time Position Type:", 0,$F22*VLOOKUP($D22,'Benefit Look Up'!$B$21:$H$27,7,FALSE)),0) -> 0 | M22: =ROUND(IF($D22="Choose Full-Time Position Type:", 0,$F22*VLOOKUP($D22,'Benefit Look Up'!$B$21:$I$27,8,FALSE)),0) -> 0 | N22: =ROUND(IF($D22="Choose Full-Time Position Type:", 0,$E22*VLOOKUP($D22,'Benefit Look Up'!$B$21:$J$27,9,FALSE)),0) -> 0 | O22: =SUM(G22:N22) -> 0 | P22: =SUM(F22,O22) -> 0
D23: Choose Full-Time Position Type: | E23: 0 | G23: =ROUND(IF($D23="Choose Full-Time Position Type:", 0,$F23*VLOOKUP($D23,'Benefit Look Up'!$B$21:$C$27,2,FALSE)),0) -> 0 | H23: =ROUND(IF($D23="Choose Full-Time Position Type:", 0,$F23*VLOOKUP($D23,'Benefit Look Up'!$B$21:$D$27,3,FALSE)),0) -> 0 | I23: =ROUND(IF($D23="Choose Full-Time Position Type:", 0,$F23*VLOOKUP($D23,'Benefit Look Up'!$B$21:$E$27,4,FALSE)),0) -> 0 | J23: =IFERROR(ROUND(IF($E23="", 0,$E23*VLOOKUP($D23,'Benefit Look Up'!$B$21:$F$27,5,FALSE)),0), " - ") -> - | K23: =ROUND(IF($D23="Choose Full-Time Position Type:", 0,$F23*VLOOKUP($D23,'Benefit Look Up'!$B$21:$G$27,6,FALSE)),0) -> 0 | L23: =ROUND(IF($D23="Choose Full-Time Position Type:", 0,$F23*VLOOKUP($D23,'Benefit Look Up'!$B$21:$H$27,7,FALSE)),0) -> 0 | M23: =ROUND(IF($D23="Choose Full-Time Position Type:", 0,$F23*VLOOKUP($D23,'Benefit Look Up'!$B$21:$I$27,8,FALSE)),0) -> 0 | N23: =ROUND(IF($D23="Choose Full-Time Position Type:", 0,$E23*VLOOKUP($D23,'Benefit Look Up'!$B$21:$J$27,9,FALSE)),0) -> 0 | O23: =SUM(G23:N23) -> 0 | P23: =SUM(F23,O23) -> 0
... D30: Choose Full-Time Position Type: | E30: 0 | G30: =ROUND(IF($D30="Choose Full-Time Position Type:", 0,$F30*VLOOKUP($D30,'Benefit Look Up'!$B$21:$C$27,2,FALSE)),0) -> 0 | H30: =ROUND(IF($D30="Choose Full-Time Position Type:", 0,$F30*VLOOKUP($D30,'Benefit Look Up'!$B$21:$D$27,3,FALSE)),0) -> 0 | I30: =ROUND(IF($D30="Choose Full-Time Position Type:", 0,$F30*VLOOKUP($D30,'Benefit Look Up'!$B$21:$E$27,4,FALSE)),0) -> 0 | J30: =IFERROR(ROUND(IF($E30="", 0,$E30*VLOOKUP($D30,'Benefit Look Up'!$B$21:$F$27,5,FALSE)),0), " - ") -> - | K30: =ROUND(IF($D30="Choose Full-Time Position Type:", 0,$F30*VLOOKUP($D30,'Benefit Look Up'!$B$21:$G$27,6,FALSE)),0) -> 0 | L30: =ROUND(IF($D30="Choose Full-Time Position Type:", 0,$F30*VLOOKUP($D30,'Benefit Look Up'!$B$21:$H$27,7,FALSE)),0) -> 0 | M30: =ROUND(IF($D30="Choose Full-Time Position Type:", 0,$F30*VLOOKUP($D30,'Benefit Look Up'!$B$21:$I$27,8,FALSE)),0) -> 0 | N30: =ROUND(IF($D30="Choose Full-Time Position Type:", 0,$E30*VLOOKUP($D30,'Benefit Look Up'!$B$21:$J$27,9,FALSE)),0) -> 0 | O30: =SUM(G30:N30) -> 0 | P30: =SUM(F30,O30) -> 0
B31: Total Full-time Salary and Benefit Costs | E31: =SUM(E12:E30) -> 0 | F31: =SUM(F12:F30) -> 0 | G31: =SUM(G12:G30) -> 0 | H31: =SUM(H12:H30) -> 0 | I31: =SUM(I12:I30) -> 0 | J31: =SUM(J12:J30) -> 0 | K31: =SUM(K12:K30) -> 0 | L31: =SUM(L12:L30) -> 0 | ... N31: =SUM(N12:N30) -> 0 | O31: =SUM(G31:N31) -> 0 | P31: =SUM(F31,O31) -> 0
B32: FULL-TIME Column Verification | P32: =SUM(P12:P30) -> 0
B34: Part-time Personal Services
B36: Part-Time Salaried Positions with Benefits
B37: Enter 1) Dept ID number, 2) Position title,3) Position type that includes account code, 4) Number of positions (FTE) and 5) Requested total salary amount | G37: Do not enter data in the section below. Benefits and total salary are calculated automatically and the total is transferred to the summary tab
B39: Dept ID | C39: Position Title | D39: Account Code | E39: FTE | F39: Salary | G39: Employer Benefits | O39: Total Benefits | P39: Total Salary and Benefits
B40: ① | C40: ② Enter Position Title for Selected Full-time Positions Type Below: | D40: ③ Choose Position Type From Drop Down Box: | E40: ④ | F40: ⑤ | G40: VRS Account 111100 | H40: Social Security Account 111200 | I40: Group Life Insurance Account 111400 | J40: Health Insurance Account 111500 | K40: Retiree Health Insurance Account 111600 | L40: Long Term Disability State Account 111700 | M40: TIAA Account 111800 | N40: Deferred Compen- sation Account 113800
D41: Choose PT Salaried With Benefits: | G41: =ROUND(IF($D41="Choose PT Salaried With Benefits:", 0,$F41*VLOOKUP($D41,'Benefit Look Up'!#REF!,2,FALSE)),0) -> 0 | H41: =ROUND(IF($D41="Choose PT Salaried With Benefits:", 0,$F41*VLOOKUP($D41,'Benefit Look Up'!#REF!,3,FALSE)),0) -> 0 | I41: =ROUND(IF($D41="Choose PT Salaried With Benefits:", 0,$F41*VLOOKUP($D41,'Benefit Look Up'!#REF!,4,FALSE)),0) -> 0 | J41: =ROUND(IF($D41="Choose PT Salaried With Benefits:", 0,$E41*VLOOKUP($D41,'Benefit Look Up'!#REF!,5,FALSE)),0) -> 0 | K41: =ROUND(IF($D41="Choose PT Salaried With Benefits:", 0,$F41*VLOOKUP($D41,'Benefit Look Up'!#REF!,6,FALSE)),0) -> 0 | L41: =ROUND(IF($D41="Choose PT Salaried With Benefits:", 0,$F41*VLOOKUP($D41,'Benefit Look Up'!#REF!,7,FALSE)),0) -> 0 | M41: =ROUND(IF($D41="Choose PT Salaried With Benefits:", 0,$F41*VLOOKUP($D41,'Benefit Look Up'!#REF!,8,FALSE)),0) -> 0 | N41: =ROUND(IF($D41="Choose PT Salaried With Benefits:", 0,$E41*VLOOKUP($D41,'Benefit Look Up'!#REF!,9,FALSE)),0) -> 0 | O41: =SUM(G41:N41) -> 0 | P41: =SUM(F41,O41) -> 0
D42: Choose PT Salaried With Benefits: | G42: =ROUND(IF($D42="Choose PT Salaried With Benefits:", 0,$F42*VLOOKUP($D42,'Benefit Look Up'!#REF!,2,FALSE)),0) -> 0 | H42: =ROUND(IF($D42="Choose PT Salaried With Benefits:", 0,$F42*VLOOKUP($D42,'Benefit Look Up'!#REF!,3,FALSE)),0) -> 0 | I42: =ROUND(IF($D42="Choose PT Salaried With Benefits:", 0,$F42*VLOOKUP($D42,'Benefit Look Up'!#REF!,4,FALSE)),0) -> 0 | J42: =ROUND(IF($D42="Choose PT Salaried With Benefits:", 0,$E42*VLOOKUP($D42,'Benefit Look Up'!#REF!,5,FALSE)),0) -> 0 | K42: =ROUND(IF($D42="Choose PT Salaried With Benefits:", 0,$F42*VLOOKUP($D42,'Benefit Look Up'!#REF!,6,FALSE)),0) -> 0 | L42: =ROUND(IF($D42="Choose PT Salaried With Benefits:", 0,$F42*VLOOKUP($D42,'Benefit Look Up'!#REF!,7,FALSE)),0) -> 0 | M42: =ROUND(IF($D42="Choose PT Salaried With Benefits:", 0,$F42*VLOOKUP($D42,'Benefit Look Up'!#REF!,8,FALSE)),0) -> 0 | N42: =ROUND(IF($D42="Choose PT Salaried With Benefits:", 0,$E42*VLOOKUP($D42,'Benefit Look Up'!#REF!,9,FALSE)),0) -> 0 | O42: =SUM(G42:N42) -> 0 | P42: =SUM(F42,O42) -> 0
D43: Choose PT Salaried With Benefits: | G43: =ROUND(IF($D43="Choose PT Salaried With Benefits:", 0,$F43*VLOOKUP($D43,'Benefit Look Up'!#REF!,2,FALSE)),0) -> 0 | H43: =ROUND(IF($D43="Choose PT Salaried With Benefits:", 0,$F43*VLOOKUP($D43,'Benefit Look Up'!#REF!,3,FALSE)),0) -> 0 | I43: =ROUND(IF($D43="Choose PT Salaried With Benefits:", 0,$F43*VLOOKUP($D43,'Benefit Look Up'!#REF!,4,FALSE)),0) -> 0 | J43: =ROUND(IF($D43="Choose PT Salaried With Benefits:", 0,$E43*VLOOKUP($D43,'Benefit Look Up'!#REF!,5,FALSE)),0) -> 0 | K43: =ROUND(IF($D43="Choose PT Salaried With Benefits:", 0,$F43*VLOOKUP($D43,'Benefit Look Up'!#REF!,6,FALSE)),0) -> 0 | L43: =ROUND(IF($D43="Choose PT Salaried With Benefits:", 0,$F43*VLOOKUP($D43,'Benefit Look Up'!#REF!,7,FALSE)),0) -> 0 | M43: =ROUND(IF($D43="Choose PT Salaried With Benefits:", 0,$F43*VLOOKUP($D43,'Benefit Look Up'!#REF!,8,FALSE)),0) -> 0 | N43: =ROUND(IF($D43="Choose PT Salaried With Benefits:", 0,$E43*VLOOKUP($D43,'Benefit Look Up'!#REF!,9,FALSE)),0) -> 0 | O43: =SUM(G43:N43) -> 0 | P43: =SUM(F43,O43) -> 0
C44: Total Part-time Salary with Benefit Costs | E44: =SUM(E41:E43) -> 0 | F44: =SUM(F41:F43) -> 0 | G44: =SUM(G41:G43) -> 0 | H44: =SUM(H41:H43) -> 0 | I44: =SUM(I41:I43) -> 0 | J44: =SUM(J41:J43) -> 0 | K44: =SUM(K41:K43) -> 0 | L44: =SUM(L41:L43) -> 0 | ... P44: =SUM(P41:P43) -> 0
B46: Non-Hourly Part-Time Positions
B47: Enter 1) Dept ID number, 2) Position title, 3) Position type that includes account code, 4) Number of positions (FTE) and 5) Requested total salary amount | G47: Do not enter data in the section below.
B49: ① Dept ID | C49: ② Non-Hourly Part-Time (est) FY27-28 GA salaries are as follows: Graduate Assistantships: $10,830; Teaching Assistantships: $12,710; Doctorals: $21,269 | D49: ③ Choose Position Type From Drop Down Box: A valid position type must be selected or Benefits will not be calculated. | E49: ④ FTE | F49: ⑤ Total Salary for All FTEs | G49: Social Security Account 111300 | H49: Total PT Hourly Wages, and Benefits
D50: Choose Non-Hourly PT Position Type: | G50: =ROUND(IF($D50="Choose Non-Hourly PT Position Type:", 0,$F50*VLOOKUP($D50,'Benefit Look Up'!$B$32:$C$41,2,FALSE)),0) -> 0 | H50: =SUM(F50:G50) -> 0
D51: Choose Non-Hourly PT Position Type: | G51: =ROUND(IF($D51="Choose Non-Hourly PT Position Type:", 0,$F51*VLOOKUP($D51,'Benefit Look Up'!$B$32:$C$41,2,FALSE)),0) -> 0 | H51: =SUM(F51:G51) -> 0
D52: Choose Non-Hourly PT Position Type: | G52: =ROUND(IF($D52="Choose Non-Hourly PT Position Type:", 0,$F52*VLOOKUP($D52,'Benefit Look Up'!$B$32:$C$41,2,FALSE)),0) -> 0 | H52: =SUM(F52:G52) -> 0
...

Sheet (4) Nonpersonal Services
B1: ='(1) Summary'!B1 -> Auxiliary Enterprise Initiative Request Form FY28
B2: Nonpersonal Services Rquest
B3: This information is carried forward from the Summary Sheet
B4: Initiative Priority Number: | D4: ='(1) Summary'!D4 -> 0
B5: Initiative Title: | D5: ='(1) Summary'!D5 -> 0
B6: Department Name: | D6: ='(1) Summary'!D6 -> 0
B8: On-Going Nonpersonal Services -- Recurring Permanent Funding
B9: Enter 1) Dept ID number, 2) On-Going Nonpersonal Services Description, 3) Account code, and 4) Requested Amount
B10: ① | C10: ② | D10: ③ | E10: ④
B11: Dept ID Number | C11: On-Going Nonpersonal Services Description | D11: Account Code | E11: $ Cost
B12: =+'(3) Personal Services'!B12 -> 0 | C12: Support for each new position requested at Department level for $5,000 per position | D12: 120010 | E12: =COUNT('(3) Personal Services'!B12:B30)*5000 -> 0
B36: TOTAL ON-GOING NONPERSONAL SERVICES | E36: =SUM(E12:E35) -> 0
B38: One-Time Nonpersonal Services -- Nonrecurring One-Time Funding
B39: Enter 1) Dept ID number, 2) On-Going Nonpersonal Services Description, 3) Account code, and 4) Requested Amount
B40: ① | C40: ② | D40: ③ | E40: ④
B41: Dept ID Number | C41: One-Time Nonpersonal Services Description | D41: Account Code | E41: $ Cost
B47: TOTAL ONE-TIME NONPERSONAL SERVICES | E47: =SUM(E42:E46) -> 0

Sheet Pillar_Lkup
A1: Choose One Pillar From Drop Down List:
A2: P1: Align curriculum with workforce needs
A3: P1: Expand career-connected learning
A4: P1: Strengthen employer partnerships
A5: P1: Expand need-based scholarships that honor students of merit and achievement.
A6: P2: Align faculty and staff workload with strategic priorities
A7: P2: Enhance employee well-being
A8: P2: Increase compensation competitiveness
A9: P2: Modernize technology infrastructure that faculty and staff use to do their work effectively
A10: P3: Increase undergraduate research opportunities
A11: P3: Expand research infrastructure
A12: P3: Grow doctoral programs in key areas
... A18: Other

Sheet Positn Type Data Validation
A1: Choose Full-Time Position Type: | C1: Choose Non-Hourly PT Position Type: | E1: Choose PT Hourly Position Type: | G1: Choose PT Salaried With Benefits: | I1: 0
A2: FT Administrative (112100) | C2: Graduate Assistants (114200) | E2: Wages, General (114100) | G2: PT Salaried Non-Teaching (112140) | I2: 1
A3: FT Classified (112300) | C3: PT Adjunct (114500) | E3: Student Wages (114400) | I3: -1
A4: FT Faculty (112600) | C4: PT Wages Non-Teaching (114530)
A5: FT Library Faculty (112620) AA Only | C5: PT Adjunct Summer School (114531)
A6: FT Police Officer (112700) | C6: PT Recurring Non-Teaching (112130)
A7: FT Admin Police Officer (112710)
A8: Quasi FT Non-Teaching (112160)

Sheet Benefit Look Up
A2: Benefit Look UP Sheet
A5: Benefits for 2027-28
A6: 1111 | B6: VRS/HYBRID | C6: 0.1107
A7: 1111 | B7: VALORS | C7: 0.226
A8: 1112 | B8: Social Security | C8: 0.0765
A9: 1114 | B9: Group Life Insurance | C9: 0.0106
A10: 1115 | B10: Medical Insurance | C10: 20086
A11: 1116 | B11: Retiree Health Care | C11: 0.007
A12: 1117 | B12: Sickness & Disability | C12: 0.0042 | E12: VRS total Percent | H12: =$C$6+$C$8+$C$9+$C$11+$C$12 -> 0.209
A13: 1117 | B13: VALORS-Disability | C13: 0.0042 | E13: ORP total Percent | H13: =$C$8+$C$9+$C$11+$C$14 -> 0.1981
A14: 1118 | B14: TIAA | C14: 0.104 | E14: HYBRID total Percent | H14: =+C6+2.5%+C8+C9+C11+C12 -> 0.234 | I14: (DEFAULT)
A15: 1138 | B15: Deferred Comp Match | C15: 480 | E15: VALORS total Percent | H15: =$C$7+$C$8+$C$9+$C$11+$C$13 -> 0.3243
C18: DEFAULT FOR ALL NEW POSITIONS is HYBRID 2% VOLUNTARY (JMU + 2.5%)
A19: Position Account Code | B19: Full Time Position Types | C19: VRS | D19: Social Security | E19: Group Life | F19: Medical Insurance | G19: Retiree Health | H19: Sick/ Disability | I19: TIAA | J19: Deferred Compensation
C20: 111100 | D20: 111200 | E20: 111400 | F20: 111500 | G20: 111600 | H20: 111700 | I20: 111800 | J20: 113800
A21: 112100 | B21: FT Administrative (112100) | C21: =$C$6+0.025 -> 0.1357 | D21: =$C$8 -> 0.0765 | E21: =$C$9 -> 0.0106 | F21: =$C$10 -> 20086 | G21: =$C$11 -> 0.007 | H21: =$C$12 -> 0.0042 | J21: =$C$15 -> 480
A22: 112160 | B22: Quasi FT Non-Teaching (112160) | C22: =$C$6+0.025 -> 0.1357 | D22: =$C$8 -> 0.0765 | E22: =$C$9 -> 0.0106 | F22: =$C$10 -> 20086 | G22: =$C$11 -> 0.007 | H22: =$C$12 -> 0.0042 | J22: =$C$15 -> 480
A23: 112300 | B23: FT Classified (112300) | C23: =$C$6+0.025 -> 0.1357 | D23: =$C$8 -> 0.0765 | E23: =$C$9 -> 0.0106 | F23: =$C$10 -> 20086 | G23: =$C$11 -> 0.007 | H23: =$C$12 -> 0.0042 | J23: =$C$15 -> 480
A24: 112600 | B24: FT Faculty (112600) | C24: =$C$6+0.025 -> 0.1357 | D24: =$C$8 -> 0.0765 | E24: =$C$9 -> 0.0106 | F24: =$C$10 -> 20086 | G24: =$C$11 -> 0.007 | H24: =$C$12 -> 0.0042 | J24: =$C$15 -> 480
A25: 112620 | B25: FT Library Faculty (112620) AA Only | C25: =$C$6+0.025 -> 0.1357 | D25: =$C$8 -> 0.0765 | E25: =$C$9 -> 0.0106 | F25: =$C$10 -> 20086 | G25: =$C$11 -> 0.007 | H25: =$C$12 -> 0.0042 | J25: =$C$15 -> 480
A26: 112700 | B26: FT Police Officer (112700) | C26: =$C$7 -> 0.226 | D26: =$C$8 -> 0.0765 | E26: =$C$9 -> 0.0106 | F26: =$C$10 -> 20086 | G26: =$C$11 -> 0.007 | H26: =$C$12 -> 0.0042 | J26: =$C$15 -> 480
A27: 112710 | B27: FT Admin Police Officer (112710) | C27: =$C$7 -> 0.226 | D27: =$C$8 -> 0.0765 | E27: =$C$9 -> 0.0106 | F27: =$C$10 -> 20086 | G27: =$C$11 -> 0.007 | H27: =$C$12 -> 0.0042 | J27: =$C$15 -> 480
A30: Position Account Code | B30: Part- Time Position Types with only Social Security | C30: Social Security
C31: 111300
A32: 112130 | B32: PT Recurring Non-Teaching (112130) | C32: =$C$8 -> 0.0765
A33: 114200 | B33: Graduate Assistants (114200) | C33: 0
A34: 114500 | B34: PT Adjunct (114500) | C34: =$C$8 -> 0.0765
A35: 114530 | B35: PT Wages Non-Teaching (114530) | C35: =$C$8 -> 0.0765
A36: 114531 | B36: PT Adjunct Summer School (114531) | C36: =$C$8 -> 0.0765
A37: 114910 | B37: PT Wages, IT T&R (114910) A&F Only | C37: =$C$8 -> 0.0765
A38: 114100 | B38: Wages, General (114100) | C38: =$C$8 -> 0.0765
A39: 114910 | B39: Wages, General IT (114910) A&F Only | C39: =$C$8 -> 0.0765
A40: 114400 | B40: Student Wages (114400) | C40: 0
A41: 114600 | B41: Federal Work Study Wages (114600) | C41: 0
